BEGIN:VCALENDAR
VERSION:2.0
PRODID:-//B.C. Bari Warriors - ECPv5.14.1//NONSGML v1.0//EN
CALSCALE:GREGORIAN
METHOD:PUBLISH
X-WR-CALNAME:B.C. Bari Warriors
X-ORIGINAL-URL:https://www.bcbariwarriors.it
X-WR-CALDESC:Events for B.C. Bari Warriors
REFRESH-INTERVAL;VALUE=DURATION:PT1H
X-Robots-Tag:noindex
X-PUBLISHED-TTL:PT1H
BEGIN:VTIMEZONE
TZID:Europe/Rome
BEGIN:DAYLIGHT
TZOFFSETFROM:+0100
TZOFFSETTO:+0200
TZNAME:CEST
DTSTART:20260329T010000
END:DAYLIGHT
BEGIN:STANDARD
TZOFFSETFROM:+0200
TZOFFSETTO:+0100
TZNAME:CET
DTSTART:20261025T010000
END:STANDARD
END:VTIMEZONE
BEGIN:VEVENT
DTSTART;TZID=Europe/Rome:20260329T150000
DTEND;TZID=Europe/Rome:20260329T190000
DTSTAMP:20260421T045510
CREATED:20260326T172805Z
LAST-MODIFIED:20260326T175539Z
UID:4580-1774796400-1774810800@www.bcbariwarriors.it
SUMMARY:OPENING DAY - Riparte il campionato nazionale a Noicattaro domenica 29 Marzo
DESCRIPTION:REGGIA CASERTA vs BC Bari warriors		\n				\n			\n				00 giorni\n				00 ore\n				00 minuti\n				00 secondi\n			\n		 \n	\n\n  						\n				\n					\n		\n							\n		\n				\n						\n					\n			\n								\n				\n			E’ tutto pronto\, la stagione del baseball nazionale è ai nastri di partenza!		\n				\n					\n		\n				\n			\n								\n				\n																														\n				\n					\n		\n							\n		\n				\n						\n					\n			\n								\n				\n							Dopo l’entusiasmante cavalcata della nazionale italiana guidata dal “nostro” Francisco Cervelli (originario di Bitonto)\, che ha raggiunto le semifinali del World Baseball Classic\, il campionato del mondo svoltosi negli Stati Uniti\, riparte il campionato nazionale ed i nostri ragazzi dei Warriors Bari sono pronti per affrontarlo con rinnovato entusiasmo.Inserita nel girone J del campionato di serie C\, domenica 29 marzo alle 15.00 la nostra formazione ospiterà al campo di casa\, comunale B di Noicattaro la Reggia Caserta nella prima giornata della stagione 2026. Le altre avversarie del girone saranno i Thunder Salerno e le due squadre foggiane dei Red Black e della Fovea.La nostra squadra si presenta all’avvio della nuova stagione con alcune novità e tante conferme. Innanzitutto il ritorno in panchina del manager Massimo Portoghese\, che nel 2024 ha condotto la squadra sino ai playoff per la promozione in serie B\, che sostituisce lo storico manager Vincenzo Serino\, diventato presidente della nostra società.Le conferme partono dai fratelli Mosè e Marco Serino\, veterani con grande esperienza anche nelle serie maggiori\, e proseguono con Nicolò Lasorella\, Francesco Serino e Yoel Simons Renna che negli ultimi anni hanno apportato forza\, tecnica\, atletismo ed entusiasmo ai guerrieri biancorossi. Confermatissimi nel gruppo anche l’esperto lanciatore Riccardo Laudisa e i giovani Davide Portoghese\, 16enne al secondo anno tra “i grandi”\, e Aldo Novembrino che rientra dopo l’infortunio al ginocchio che lo ha tenuto ai box per tutta la scorsa stagione.Tra gli innesti si segnalano Victor Netti\, che ha già esordito in maglia Warriors nelle ultimissime gare dello scorso campionato\, lo scattante italo venezuelano Alejandro Guerrero ed i ragazzi provenienti dal vivaio Carlo Cramarossa e Gabriele Langella\, ottimi prospetti che cercheranno di conquistarsi un posto in squadra. Posto in squadra ambito anche da Ivan Gallo\, Domenico Chimienti e Davide Grazioso\, new entry della stagione 2026.
URL:https://www.bcbariwarriors.it/event/opening-day-riparte-il-campionato-nazionale-a-noicattaro-domenica-29-marzo/
LOCATION:Noicattaro stadio comunale\, Italy
END:VEVENT
END:VCALENDAR